BEGIN:VCALENDAR
VERSION:2.0
PRODID:-//Comité de Desarrollo Productivo Región de Antofagasta - ECPv6.0.4//NONSGML v1.0//EN
CALSCALE:GREGORIAN
METHOD:PUBLISH
X-WR-CALNAME:Comité de Desarrollo Productivo Región de Antofagasta
X-ORIGINAL-URL:https://www.fomentoantofagasta.gob.cl
X-WR-CALDESC:Eventos para Comité de Desarrollo Productivo Región de Antofagasta
REFRESH-INTERVAL;VALUE=DURATION:PT1H
X-Robots-Tag:noindex
X-PUBLISHED-TTL:PT1H
BEGIN:VTIMEZONE
TZID:America/Santiago
BEGIN:STANDARD
TZOFFSETFROM:-0300
TZOFFSETTO:-0400
TZNAME:-04
DTSTART:20180513T030000
END:STANDARD
BEGIN:DAYLIGHT
TZOFFSETFROM:-0400
TZOFFSETTO:-0300
TZNAME:-03
DTSTART:20180812T040000
END:DAYLIGHT
END:VTIMEZONE
BEGIN:VEVENT
DTSTART;TZID=America/Santiago:20180409T150000
DTEND;TZID=America/Santiago:20180409T150100
DTSTAMP:20260423T045855
CREATED:20180327T194341Z
LAST-MODIFIED:20221111T145100Z
UID:1403-1523286000-1523286060@www.fomentoantofagasta.gob.cl
SUMMARY:Cierre Concursos Semilla Emprende\, Abeja Emprende y Crece Fondo de Desarrollo de Negocios
DESCRIPTION:
URL:https://www.fomentoantofagasta.gob.cl/event/cierre-concursos-semilla-emprende-abeja-emprende-y-crece-fondo-de-desarrollo-de-negocios/
CATEGORIES:catpruebas
ATTACH;FMTTYPE=image/png:https://www.fomentoantofagasta.gob.cl/wp-content/uploads/2018/03/Aviso-Concurso-oficial.png
END:VEVENT
BEGIN:VEVENT
DTSTART;TZID=America/Santiago:20180329T100000
DTEND;TZID=America/Santiago:20180329T120000
DTSTAMP:20260423T045855
CREATED:20180327T191641Z
LAST-MODIFIED:20180327T193042Z
UID:1358-1522317600-1522324800@www.fomentoantofagasta.gob.cl
SUMMARY:ANTOFAGASTA: charla difusión programa "Capital Semilla y Abeja Emprende"
DESCRIPTION:
URL:https://www.fomentoantofagasta.gob.cl/event/charla-difusion-programa-capital-semilla-y-abeja-emprende/
LOCATION:Centro de Desarrollo de Negocios\, Avenida José Miguel Carrera 1701\, piso 1\, Antofagasta\, Chile
ATTACH;FMTTYPE=image/png:https://www.fomentoantofagasta.gob.cl/wp-content/uploads/2018/03/Itinerario-Semilla-Antofagasta-03.png
END:VEVENT
BEGIN:VEVENT
DTSTART;TZID=America/Santiago:20180328T120000
DTEND;TZID=America/Santiago:20180328T133000
DTSTAMP:20260423T045855
CREATED:20180327T194129Z
LAST-MODIFIED:20180327T194129Z
UID:1401-1522238400-1522243800@www.fomentoantofagasta.gob.cl
SUMMARY:MARÍA ELENA: charla difusión programa "Crece\, Fondo de Desarrollo de Negocios"
DESCRIPTION:
URL:https://www.fomentoantofagasta.gob.cl/event/maria-elena-charla-difusion-programa-crece-fondo-de-desarrollo-de-negocios/
LOCATION:Salón Municipal María Elena\, Ignacio Carrera Pinto 1926\, María Elena\, Chile
ATTACH;FMTTYPE=image/png:https://www.fomentoantofagasta.gob.cl/wp-content/uploads/2018/03/Itinerario-Semilla-ME-02.png
END:VEVENT
BEGIN:VEVENT
DTSTART;TZID=America/Santiago:20180328T110000
DTEND;TZID=America/Santiago:20180328T120000
DTSTAMP:20260423T045855
CREATED:20180327T194039Z
LAST-MODIFIED:20180327T194039Z
UID:1397-1522234800-1522238400@www.fomentoantofagasta.gob.cl
SUMMARY:MARÍA ELENA: charla difusión programa "Capital Semilla y Abeja Emprende"
DESCRIPTION:
URL:https://www.fomentoantofagasta.gob.cl/event/maria-elena-charla-difusion-programa-capital-semilla-y-abeja-emprende/
LOCATION:Salón Municipal María Elena\, Ignacio Carrera Pinto 1926\, María Elena\, Chile
ATTACH;FMTTYPE=image/png:https://www.fomentoantofagasta.gob.cl/wp-content/uploads/2018/03/Itinerario-Semilla-ME-02.png
END:VEVENT
BEGIN:VEVENT
DTSTART;VALUE=DATE:20180328
DTEND;VALUE=DATE:20180329
DTSTAMP:20260423T045855
CREATED:20180213T160314Z
LAST-MODIFIED:20180327T191220Z
UID:1282-1522195200-1522281599@www.fomentoantofagasta.gob.cl
SUMMARY:Cierre concurso PRAE
DESCRIPTION:
URL:https://www.fomentoantofagasta.gob.cl/event/cierre-concurso-prae/
END:VEVENT
BEGIN:VEVENT
DTSTART;TZID=America/Santiago:20180327T150000
DTEND;TZID=America/Santiago:20180327T170000
DTSTAMP:20260423T045855
CREATED:20180327T191517Z
LAST-MODIFIED:20180327T193021Z
UID:1354-1522162800-1522170000@www.fomentoantofagasta.gob.cl
SUMMARY:ANTOFAGASTA: Charla de difusión del programa "Crece\, Fondo de Desarrollo de Negocios"
DESCRIPTION:
URL:https://www.fomentoantofagasta.gob.cl/event/charla-de-difusion-del-programa-crece-fondo-de-desarrollo-de-negocios/
LOCATION:Centro de Desarrollo de Negocios\, Avenida José Miguel Carrera 1701\, piso 1\, Antofagasta\, Chile
ATTACH;FMTTYPE=image/png:https://www.fomentoantofagasta.gob.cl/wp-content/uploads/2018/03/Itinerario-Semilla-Antofagasta-03.png
END:VEVENT
BEGIN:VEVENT
DTSTART;TZID=America/Santiago:20180323T120000
DTEND;TZID=America/Santiago:20180323T133000
DTSTAMP:20260423T045855
CREATED:20180327T193735Z
LAST-MODIFIED:20180327T193735Z
UID:1391-1521806400-1521811800@www.fomentoantofagasta.gob.cl
SUMMARY:MEJILLONES: charla de difusión programa "Crece\, Fondo de Desarrollo de Negocios"
DESCRIPTION:
URL:https://www.fomentoantofagasta.gob.cl/event/mejillones-charla-de-difusion-programa-crece-fondo-de-desarrollo-de-negocios/
LOCATION:Salón del Museo\, Francisco Antonio Pinto 110\, Mejillones\, Chile
ATTACH;FMTTYPE=image/png:https://www.fomentoantofagasta.gob.cl/wp-content/uploads/2018/03/Itinerario-Semilla-Tocopilla-y-mejillones-01-06.png
END:VEVENT
BEGIN:VEVENT
DTSTART;TZID=America/Santiago:20180323T110000
DTEND;TZID=America/Santiago:20180323T120000
DTSTAMP:20260423T045855
CREATED:20180327T193821Z
LAST-MODIFIED:20180327T193821Z
UID:1394-1521802800-1521806400@www.fomentoantofagasta.gob.cl
SUMMARY:MEJILLONES: charla de difusión programa "Capital Semilla y Abeja Emprende"
DESCRIPTION:
URL:https://www.fomentoantofagasta.gob.cl/event/mejillones-charla-de-difusion-programa-capital-semilla-y-abeja-emprende/
LOCATION:Salón del Museo\, Francisco Antonio Pinto 110\, Mejillones\, Chile
ATTACH;FMTTYPE=image/png:https://www.fomentoantofagasta.gob.cl/wp-content/uploads/2018/03/Itinerario-Semilla-Tocopilla-y-mejillones-01-06.png
END:VEVENT
BEGIN:VEVENT
DTSTART;TZID=America/Santiago:20180322T180000
DTEND;TZID=America/Santiago:20180322T210000
DTSTAMP:20260423T045855
CREATED:20180327T195201Z
LAST-MODIFIED:20180327T195201Z
UID:1409-1521741600-1521752400@www.fomentoantofagasta.gob.cl
SUMMARY:Inicio 2° año Nodo subcontratistas Antofagasta
DESCRIPTION:
URL:https://www.fomentoantofagasta.gob.cl/event/inicio-2-ano-nodo-subcontratistas-antofagasta/
LOCATION:Auditorio CChC\, Angamos 1274\, Antofagasta\, Chile
END:VEVENT
BEGIN:VEVENT
DTSTART;TZID=America/Santiago:20180322T150000
DTEND;TZID=America/Santiago:20180322T170000
DTSTAMP:20260423T045855
CREATED:20180327T191807Z
LAST-MODIFIED:20180327T192954Z
UID:1363-1521730800-1521738000@www.fomentoantofagasta.gob.cl
SUMMARY:ANTOFAGASTA: charla difusión programa "Capital Semilla y Abeja Emprende"
DESCRIPTION:
URL:https://www.fomentoantofagasta.gob.cl/event/charla-difusion-programa-capital-semilla-y-abeja-emprende-3/
LOCATION:Centro de Desarrollo de Negocios\, Avenida José Miguel Carrera 1701\, piso 1\, Antofagasta\, Chile
ATTACH;FMTTYPE=image/png:https://www.fomentoantofagasta.gob.cl/wp-content/uploads/2018/03/Itinerario-Semilla-Antofagasta-03.png
END:VEVENT
BEGIN:VEVENT
DTSTART;TZID=America/Santiago:20180322T120000
DTEND;TZID=America/Santiago:20180322T140000
DTSTAMP:20260423T045855
CREATED:20180327T192718Z
LAST-MODIFIED:20180327T192718Z
UID:1377-1521720000-1521727200@www.fomentoantofagasta.gob.cl
SUMMARY:CALAMA: charla de difusión del programa "Crece\, Fondo de Desarrollo de Negocios"
DESCRIPTION:
URL:https://www.fomentoantofagasta.gob.cl/event/calama-charla-de-difusion-del-programa-crece-fondo-de-desarrollo-de-negocios/
LOCATION:Centro de Desarrollo de Negocios Calama\, Avenida Granaderos 3005\, Calama\, Chile
ATTACH;FMTTYPE=image/png:https://www.fomentoantofagasta.gob.cl/wp-content/uploads/2018/03/Itinerario-Semilla-3-comunas-04-04.png
END:VEVENT
BEGIN:VEVENT
DTSTART;TZID=America/Santiago:20180322T080000
DTEND;TZID=America/Santiago:20180322T170000
DTSTAMP:20260423T045855
CREATED:20180327T192618Z
LAST-MODIFIED:20180327T192618Z
UID:1374-1521705600-1521738000@www.fomentoantofagasta.gob.cl
SUMMARY:CALAMA: charla difusión programa "Capital Semilla y Abeja Emprende"
DESCRIPTION:
URL:https://www.fomentoantofagasta.gob.cl/event/calama-charla-difusion-programa-capital-semilla-y-abeja-emprende/
LOCATION:Centro de Desarrollo de Negocios Calama\, Avenida Granaderos 3005\, Calama\, Chile
ATTACH;FMTTYPE=image/png:https://www.fomentoantofagasta.gob.cl/wp-content/uploads/2018/03/Itinerario-Semilla-3-comunas-04-04.png
END:VEVENT
BEGIN:VEVENT
DTSTART;TZID=America/Santiago:20180321T120000
DTEND;TZID=America/Santiago:20180321T133000
DTSTAMP:20260423T045855
CREATED:20180327T193609Z
LAST-MODIFIED:20180327T193609Z
UID:1389-1521633600-1521639000@www.fomentoantofagasta.gob.cl
SUMMARY:TOCOPILLA: charla de difusión programa "Crece\, Fondo de Desarrollo de Negocios"
DESCRIPTION:
URL:https://www.fomentoantofagasta.gob.cl/event/tocopilla-charla-de-difusion-programa-crece-fondo-de-desarrollo-de-negocios/
LOCATION:Salón Municipal de Tocopilla\, Aníbal Pinto 1305\, Tocopilla\, Chile
ATTACH;FMTTYPE=image/png:https://www.fomentoantofagasta.gob.cl/wp-content/uploads/2018/03/Itinerario-Semilla-Tocopilla-y-mejillones-01-06.png
END:VEVENT
BEGIN:VEVENT
DTSTART;TZID=America/Santiago:20180321T110000
DTEND;TZID=America/Santiago:20180321T130000
DTSTAMP:20260423T045855
CREATED:20180327T194939Z
LAST-MODIFIED:20180327T194939Z
UID:1405-1521630000-1521637200@www.fomentoantofagasta.gob.cl
SUMMARY:Inicio 2° año del NODO Enfrentando situaciones de Riesgo
DESCRIPTION:
URL:https://www.fomentoantofagasta.gob.cl/event/inicio-2-ano-del-nodo-enfrentando-situaciones-de-riesgo/
LOCATION:Hotel Casa Don Esteban\, San Juan 32A - Ayllu Larache\, San Pedro de Atacama\, Chile
ATTACH;FMTTYPE=image/png:https://www.fomentoantofagasta.gob.cl/wp-content/uploads/2018/03/Invitación-Caro-01.png
END:VEVENT
BEGIN:VEVENT
DTSTART;TZID=America/Santiago:20180321T110000
DTEND;TZID=America/Santiago:20180321T120000
DTSTAMP:20260423T045855
CREATED:20180327T193518Z
LAST-MODIFIED:20180327T193518Z
UID:1386-1521630000-1521633600@www.fomentoantofagasta.gob.cl
SUMMARY:TOCOPILLA: charla de difusión programa "Capital Semilla y Abeja Emprende"
DESCRIPTION:
URL:https://www.fomentoantofagasta.gob.cl/event/tocopilla-charla-de-difusion-programa-capital-semilla-y-abeja-emprende/
LOCATION:Salón Municipal de Tocopilla\, Aníbal Pinto 1305\, Tocopilla\, Chile
ATTACH;FMTTYPE=image/png:https://www.fomentoantofagasta.gob.cl/wp-content/uploads/2018/03/Itinerario-Semilla-Tocopilla-y-mejillones-01-06.png
END:VEVENT
BEGIN:VEVENT
DTSTART;TZID=America/Santiago:20180320T150000
DTEND;TZID=America/Santiago:20180320T170000
DTSTAMP:20260423T045855
CREATED:20180327T191843Z
LAST-MODIFIED:20180327T193115Z
UID:1365-1521558000-1521565200@www.fomentoantofagasta.gob.cl
SUMMARY:ANTOFAGASTA: charla de difusión del programa "Crece\, Fondo de Desarrollo de Negocios"
DESCRIPTION:
URL:https://www.fomentoantofagasta.gob.cl/event/charla-de-difusion-del-programa-crece-fondo-de-desarrollo-de-negocios-2/
LOCATION:Centro de Desarrollo de Negocios\, Avenida José Miguel Carrera 1701\, piso 1\, Antofagasta\, Chile
ATTACH;FMTTYPE=image/png:https://www.fomentoantofagasta.gob.cl/wp-content/uploads/2018/03/Itinerario-Semilla-Antofagasta-03.png
END:VEVENT
BEGIN:VEVENT
DTSTART;TZID=America/Santiago:20180319T150000
DTEND;TZID=America/Santiago:20180319T170000
DTSTAMP:20260423T045855
CREATED:20180327T192350Z
LAST-MODIFIED:20180327T192350Z
UID:1371-1521471600-1521478800@www.fomentoantofagasta.gob.cl
SUMMARY:SAN PEDRO DE ATACAMA: charla de difusión "Crece\, Fondo de Desarrollo de Negocios"
DESCRIPTION:
URL:https://www.fomentoantofagasta.gob.cl/event/san-pedro-de-atacama-charla-de-difusion-crece-fondo-de-desarrollo-de-negocios/
LOCATION:Fundación Minera Escondida\, Gustavo Le Paige 527\, San Pedro de Atacama\, Chile
ATTACH;FMTTYPE=image/png:https://www.fomentoantofagasta.gob.cl/wp-content/uploads/2018/03/Itinerario-Semilla-3-comunas-04-04.png
END:VEVENT
BEGIN:VEVENT
DTSTART;TZID=America/Santiago:20180319T120000
DTEND;TZID=America/Santiago:20180319T140000
DTSTAMP:20260423T045855
CREATED:20180327T192235Z
LAST-MODIFIED:20180327T192235Z
UID:1367-1521460800-1521468000@www.fomentoantofagasta.gob.cl
SUMMARY:SAN PEDRO DE ATACAMA: Charla de Difusión Semilla y Abeja Emprende
DESCRIPTION:
URL:https://www.fomentoantofagasta.gob.cl/event/san-pedro-de-atacama-charla-de-difusion-semilla-y-abeja-emprende/
LOCATION:Fundación Minera Escondida\, Gustavo Le Paige 527\, San Pedro de Atacama\, Chile
ATTACH;FMTTYPE=image/png:https://www.fomentoantofagasta.gob.cl/wp-content/uploads/2018/03/Itinerario-Semilla-3-comunas-04-04.png
END:VEVENT
BEGIN:VEVENT
DTSTART;TZID=America/Santiago:20180315T150000
DTEND;TZID=America/Santiago:20180315T170000
DTSTAMP:20260423T045855
CREATED:20180327T191730Z
LAST-MODIFIED:20180327T193139Z
UID:1361-1521126000-1521133200@www.fomentoantofagasta.gob.cl
SUMMARY:ANTOFAGASTA: charla difusión programa "Capital Semilla y Abeja Emprende"
DESCRIPTION:
URL:https://www.fomentoantofagasta.gob.cl/event/charla-difusion-programa-capital-semilla-y-abeja-emprende-2/
LOCATION:Centro de Desarrollo de Negocios\, Avenida José Miguel Carrera 1701\, piso 1\, Antofagasta\, Chile
ATTACH;FMTTYPE=image/png:https://www.fomentoantofagasta.gob.cl/wp-content/uploads/2018/03/Itinerario-Semilla-Antofagasta-03.png
END:VEVENT
BEGIN:VEVENT
DTSTART;TZID=America/Santiago:20180314T150000
DTEND;TZID=America/Santiago:20180314T170000
DTSTAMP:20260423T045855
CREATED:20180327T200059Z
LAST-MODIFIED:20180327T200059Z
UID:1413-1521039600-1521046800@www.fomentoantofagasta.gob.cl
SUMMARY:Charla Concurso PRAE
DESCRIPTION:
URL:https://www.fomentoantofagasta.gob.cl/event/charla-concurso-prae-2/
LOCATION:Auditorio Andrés Sabella\, Universidad Católica del Norte\, Antofagasta\, Chile
ATTACH;FMTTYPE=image/jpeg:https://www.fomentoantofagasta.gob.cl/wp-content/uploads/2018/03/difusión.jpg
END:VEVENT
BEGIN:VEVENT
DTSTART;TZID=America/Santiago:20180306T183000
DTEND;TZID=America/Santiago:20180306T210000
DTSTAMP:20260423T045855
CREATED:20180327T213305Z
LAST-MODIFIED:20180221T213945Z
UID:1299-1520361000-1520370000@www.fomentoantofagasta.gob.cl
SUMMARY:Jornada de difusión a proyectos de innovación
DESCRIPTION:
URL:https://www.fomentoantofagasta.gob.cl/event/jornada-de-difusion-a-proyectos-de-innovacion/
LOCATION:Auditorio CChC\, Angamos 1274\, Antofagasta\, Chile
END:VEVENT
BEGIN:VEVENT
DTSTART;TZID=America/Santiago:20180301T163000
DTEND;TZID=America/Santiago:20180301T180000
DTSTAMP:20260423T045855
CREATED:20180301T183501Z
LAST-MODIFIED:20180301T183501Z
UID:1316-1519921800-1519927200@www.fomentoantofagasta.gob.cl
SUMMARY:Comité Antofagasta: Charla sobre Innovación y Emprendimiento
DESCRIPTION:La directora ejecutiva del Comité\, Marlene Sánchez\, dará a conocer las cifras en estas tres materias obtenidas el 2017 y metas 2018.
URL:https://www.fomentoantofagasta.gob.cl/event/comite-antofagasta-charla-sobre-innovacion-y-emprendimiento/
LOCATION:Cowork Espacio Atacama\, Antonio Poupin 1138\, Antofagasta\, Chile
ATTACH;FMTTYPE=image/jpeg:https://www.fomentoantofagasta.gob.cl/wp-content/uploads/2018/03/Invitación.jpg
END:VEVENT
BEGIN:VEVENT
DTSTART;TZID=America/Santiago:20180228T103000
DTEND;TZID=America/Santiago:20180228T113000
DTSTAMP:20260423T045855
CREATED:20180221T214408Z
LAST-MODIFIED:20180221T214408Z
UID:1302-1519813800-1519817400@www.fomentoantofagasta.gob.cl
SUMMARY:Lanzamiento Libro "80 casos de éxito: Made in Antofagasta"
DESCRIPTION:El libro 80 casos de éxito: MADE IN ANTOFAGASTA es un compilado de algunos de los proyectos más emblemáticos del periodo 2014-2017\, frutos del Comité de Desarrollo Productivo Regional de Antofagasta\, agencia descentralizada desde 2015\, la cual aúna la labor en la región de Corfo y Sercotec. \nEsta edición se llevó a cabo gracias a financiamiento del Fondo de Innovación para la Competitividad Regional\, bajo la iniciativa Transferencia programa Innovación y Emprendimiento «MADE IN ANTOFAGASTA».
URL:https://www.fomentoantofagasta.gob.cl/event/lanzamiento-libro-80-casos-de-exito-made-in-antofagasta/
LOCATION:Koffi Lab Fomento Antofagasta\, Av. José Miguel Carrera 1701\, piso 1.\, Antofagasta\, Chile
ATTACH;FMTTYPE=image/jpeg:https://www.fomentoantofagasta.gob.cl/wp-content/uploads/2018/02/INVITACION-V3-e1519249424842.jpg
END:VEVENT
BEGIN:VEVENT
DTSTART;TZID=America/Santiago:20180216T110000
DTEND;TZID=America/Santiago:20180216T230000
DTSTAMP:20260423T045855
CREATED:20180213T155635Z
LAST-MODIFIED:20180213T164244Z
UID:1270-1518778800-1518822000@www.fomentoantofagasta.gob.cl
SUMMARY:Mejillones en su Salsa
DESCRIPTION:
URL:https://www.fomentoantofagasta.gob.cl/event/mejillones-en-su-salsa/
LOCATION:Plaza de Mejillones\, Mejillones\, Chile
ATTACH;FMTTYPE=image/png:https://www.fomentoantofagasta.gob.cl/wp-content/uploads/2017/12/ANTOFAS-EN-SU-SALSA.png
END:VEVENT
BEGIN:VEVENT
DTSTART;TZID=America/Santiago:20180213T170000
DTEND;TZID=America/Santiago:20180213T190000
DTSTAMP:20260423T045855
CREATED:20180213T154434Z
LAST-MODIFIED:20180213T154659Z
UID:1263-1518541200-1518548400@www.fomentoantofagasta.gob.cl
SUMMARY:Charla Concurso PRAE
DESCRIPTION:Para emprendedores/as que tengan un proyecto para fomentar y contribuir a la creación y consolidación de emprendimientos regionales de alto potencial de crecimiento\, que impacten y contribuyan a mejorar la competitividad\, preferentemente\, en el ámbito económico de los sectores priorizados por la Estrategia de Desarrollo Regional (2011 – 2020)\, que son: industrias proveedoras de la minería\, pesqueras y acuícolas\, logísticas comerciales\, turísticas y agrícolas autosustentables.
URL:https://www.fomentoantofagasta.gob.cl/event/charla-concurso-prae/
LOCATION:Cowork Espacio Atacama\, Antonio Poupin 1138\, Antofagasta\, Chile
ATTACH;FMTTYPE=image/png:https://www.fomentoantofagasta.gob.cl/wp-content/uploads/2018/02/27788365_880589765433895_3307641939815594085_o.png
ORGANIZER;CN="Espacio%20Atacama":MAILTO:contacto@espacioatacama.cl
END:VEVENT
BEGIN:VEVENT
DTSTART;TZID=America/Santiago:20180210T110000
DTEND;TZID=America/Santiago:20180211T230000
DTSTAMP:20260423T045855
CREATED:20180213T163830Z
LAST-MODIFIED:20180213T164139Z
UID:1284-1518260400-1518390000@www.fomentoantofagasta.gob.cl
SUMMARY:Antofa en su Salsa
DESCRIPTION:
URL:https://www.fomentoantofagasta.gob.cl/event/antofa-en-su-salsa/
LOCATION:Muelle Histórico Merbourne Clark\, Antofagasta\, Chile
ATTACH;FMTTYPE=image/png:https://www.fomentoantofagasta.gob.cl/wp-content/uploads/2017/12/ANTOFAS-EN-SU-SALSA.png
END:VEVENT
BEGIN:VEVENT
DTSTART;VALUE=DATE:20180209
DTEND;VALUE=DATE:20180210
DTSTAMP:20260423T045855
CREATED:20180209T155641Z
LAST-MODIFIED:20180213T160125Z
UID:1276-1518134400-1518220799@www.fomentoantofagasta.gob.cl
SUMMARY:Apertura concurso PRAE
DESCRIPTION:
URL:https://www.fomentoantofagasta.gob.cl/event/apertura-concurso-prae/
END:VEVENT
BEGIN:VEVENT
DTSTART;TZID=America/Santiago:20180202T110000
DTEND;TZID=America/Santiago:20180202T210000
DTSTAMP:20260423T045855
CREATED:20180213T163949Z
LAST-MODIFIED:20180213T164328Z
UID:1287-1517569200-1517605200@www.fomentoantofagasta.gob.cl
SUMMARY:Taltal en su Salsa
DESCRIPTION:
URL:https://www.fomentoantofagasta.gob.cl/event/taltal-en-su-salsa/
LOCATION:Plaza de Taltal\, Taltal\, Chile
ATTACH;FMTTYPE=image/png:https://www.fomentoantofagasta.gob.cl/wp-content/uploads/2017/12/ANTOFAS-EN-SU-SALSA.png
END:VEVENT
END:VCALENDAR